BEGIN:VCALENDAR
VERSION:2.0
PRODID:-//Jane Condon - ECPv6.15.20//NONSGML v1.0//EN
CALSCALE:GREGORIAN
METHOD:PUBLISH
X-WR-CALNAME:Jane Condon
X-ORIGINAL-URL:https://janecondon.com
X-WR-CALDESC:Events for Jane Condon
REFRESH-INTERVAL;VALUE=DURATION:PT1H
X-Robots-Tag:noindex
X-PUBLISHED-TTL:PT1H
BEGIN:VTIMEZONE
TZID:America/New_York
BEGIN:DAYLIGHT
TZOFFSETFROM:-0500
TZOFFSETTO:-0400
TZNAME:EDT
DTSTART:20230312T070000
END:DAYLIGHT
BEGIN:STANDARD
TZOFFSETFROM:-0400
TZOFFSETTO:-0500
TZNAME:EST
DTSTART:20231105T060000
END:STANDARD
BEGIN:DAYLIGHT
TZOFFSETFROM:-0500
TZOFFSETTO:-0400
TZNAME:EDT
DTSTART:20240310T070000
END:DAYLIGHT
BEGIN:STANDARD
TZOFFSETFROM:-0400
TZOFFSETTO:-0500
TZNAME:EST
DTSTART:20241103T060000
END:STANDARD
BEGIN:DAYLIGHT
TZOFFSETFROM:-0500
TZOFFSETTO:-0400
TZNAME:EDT
DTSTART:20250309T070000
END:DAYLIGHT
BEGIN:STANDARD
TZOFFSETFROM:-0400
TZOFFSETTO:-0500
TZNAME:EST
DTSTART:20251102T060000
END:STANDARD
END:VTIMEZONE
BEGIN:VEVENT
DTSTART;TZID=America/New_York:20240806T190000
DTEND;TZID=America/New_York:20240806T210000
DTSTAMP:20260421T044827
CREATED:20240608T132721Z
LAST-MODIFIED:20240608T133225Z
UID:1051-1722970800-1722978000@janecondon.com
SUMMARY:Dreamland Theatre\, Tues. Aug. 6\, 2024
DESCRIPTION:Come see WENDY LIEBMAN\, the winner of the American Comedy Award. She has had her own Showtime special and appeared on Letterman\, Fallon\, Ferguson\, Kimmel and even Johnny Carson’s Tonight Show. Most recently\, she starred on America’s Got Talent. Guaranteed GREAT show!  \nScreenshot
URL:https://janecondon.com/event/dreamland-theatre-tues-aug-6-2024/
LOCATION:Dreamland Theatre\, South Water St.\, Nantucket\, MA\, 02554
CATEGORIES:Comedy,humor,humor,standupcomedy
END:VEVENT
END:VCALENDAR